BEGIN:VCALENDAR
VERSION:2.0
PRODID:-//Les Louveaux - ECPv5.14.2.1//NONSGML v1.0//EN
CALSCALE:GREGORIAN
METHOD:PUBLISH
X-WR-CALNAME:Les Louveaux
X-ORIGINAL-URL:https://www.haras-louveaux.fr
X-WR-CALDESC:Events for Les Louveaux
REFRESH-INTERVAL;VALUE=DURATION:PT1H
X-Robots-Tag:noindex
X-PUBLISHED-TTL:PT1H
BEGIN:VTIMEZONE
TZID:UTC
BEGIN:STANDARD
TZOFFSETFROM:+0000
TZOFFSETTO:+0000
TZNAME:UTC
DTSTART:20240101T000000
END:STANDARD
END:VTIMEZONE
BEGIN:VEVENT
DTSTART;VALUE=DATE:20240107
DTEND;VALUE=DATE:20240108
DTSTAMP:20260423T063809
CREATED:20240101T162914Z
LAST-MODIFIED:20240101T163452Z
UID:1566-1704585600-1704671999@www.haras-louveaux.fr
SUMMARY:EQUIFEEL - PG
DESCRIPTION:
URL:https://www.haras-louveaux.fr/event/pg/
LOCATION:haras des louveaux
END:VEVENT
END:VCALENDAR