BEGIN:VCALENDAR
VERSION:2.0
PRODID:-//Les Louveaux - ECPv5.14.2.1//NONSGML v1.0//EN
CALSCALE:GREGORIAN
METHOD:PUBLISH
X-WR-CALNAME:Les Louveaux
X-ORIGINAL-URL:https://www.haras-louveaux.fr
X-WR-CALDESC:Events for Les Louveaux
REFRESH-INTERVAL;VALUE=DURATION:PT1H
X-Robots-Tag:noindex
X-PUBLISHED-TTL:PT1H
BEGIN:VTIMEZONE
TZID:UTC
BEGIN:STANDARD
TZOFFSETFROM:+0000
TZOFFSETTO:+0000
TZNAME:UTC
DTSTART:20240101T000000
END:STANDARD
END:VTIMEZONE
BEGIN:VEVENT
DTSTART;TZID=UTC:20240401T080000
DTEND;TZID=UTC:20240401T170000
DTSTAMP:20260423T022920
CREATED:20240210T135051Z
LAST-MODIFIED:20240210T135051Z
UID:1629-1711958400-1711990800@www.haras-louveaux.fr
SUMMARY:LES LOUVEAUX : Entrainement PG et Equifeel Ouvert à tous les clubs
DESCRIPTION:
URL:https://www.haras-louveaux.fr/event/les-louveaux-entrainement-pg-et-equifeel-ouvert-a-tous-les-clubs/
END:VEVENT
END:VCALENDAR