BEGIN:VCALENDAR
VERSION:2.0
PRODID:-//Les Louveaux - ECPv5.14.2.1//NONSGML v1.0//EN
CALSCALE:GREGORIAN
METHOD:PUBLISH
X-WR-CALNAME:Les Louveaux
X-ORIGINAL-URL:https://www.haras-louveaux.fr
X-WR-CALDESC:Events for Les Louveaux
REFRESH-INTERVAL;VALUE=DURATION:PT1H
X-Robots-Tag:noindex
X-PUBLISHED-TTL:PT1H
BEGIN:VTIMEZONE
TZID:UTC
BEGIN:STANDARD
TZOFFSETFROM:+0000
TZOFFSETTO:+0000
TZNAME:UTC
DTSTART:20250101T000000
END:STANDARD
END:VTIMEZONE
BEGIN:VEVENT
DTSTART;TZID=UTC:20250309T080000
DTEND;TZID=UTC:20250309T170000
DTSTAMP:20260422T085024
CREATED:20240210T134148Z
LAST-MODIFIED:20250222T173449Z
UID:1617-1741507200-1741539600@www.haras-louveaux.fr
SUMMARY:PÔLE HIPPIQUE ST LÔ - Circuit départemental CSO
DESCRIPTION:
URL:https://www.haras-louveaux.fr/event/pole-hippique-st-lo-circuit-departemental-cso/
END:VEVENT
END:VCALENDAR