BEGIN:VCALENDAR
VERSION:2.0
PRODID:-//Les Louveaux - ECPv5.14.2.1//NONSGML v1.0//EN
CALSCALE:GREGORIAN
METHOD:PUBLISH
X-WR-CALNAME:Les Louveaux
X-ORIGINAL-URL:https://www.haras-louveaux.fr
X-WR-CALDESC:Events for Les Louveaux
REFRESH-INTERVAL;VALUE=DURATION:PT1H
X-Robots-Tag:noindex
X-PUBLISHED-TTL:PT1H
BEGIN:VTIMEZONE
TZID:UTC
BEGIN:STANDARD
TZOFFSETFROM:+0000
TZOFFSETTO:+0000
TZNAME:UTC
DTSTART:20250101T000000
END:STANDARD
END:VTIMEZONE
BEGIN:VEVENT
DTSTART;VALUE=DATE:20250323
DTEND;VALUE=DATE:20250324
DTSTAMP:20260422T090650
CREATED:20240210T135155Z
LAST-MODIFIED:20250222T173859Z
UID:1631-1742688000-1742774399@www.haras-louveaux.fr
SUMMARY:BARON SUR ODON: CSO
DESCRIPTION:
URL:https://www.haras-louveaux.fr/event/shuc-st-contest-equifun/
END:VEVENT
END:VCALENDAR