BEGIN:VCALENDAR
VERSION:2.0
PRODID:-//Les Louveaux - ECPv5.14.2.1//NONSGML v1.0//EN
CALSCALE:GREGORIAN
METHOD:PUBLISH
X-WR-CALNAME:Les Louveaux
X-ORIGINAL-URL:https://www.haras-louveaux.fr
X-WR-CALDESC:Events for Les Louveaux
REFRESH-INTERVAL;VALUE=DURATION:PT1H
X-Robots-Tag:noindex
X-PUBLISHED-TTL:PT1H
BEGIN:VTIMEZONE
TZID:UTC
BEGIN:STANDARD
TZOFFSETFROM:+0000
TZOFFSETTO:+0000
TZNAME:UTC
DTSTART:20250101T000000
END:STANDARD
END:VTIMEZONE
BEGIN:VEVENT
DTSTART;VALUE=DATE:20250421
DTEND;VALUE=DATE:20250423
DTSTAMP:20260422T070741
CREATED:20220301T223905Z
LAST-MODIFIED:20250324T104844Z
UID:1305-1745193600-1745366399@www.haras-louveaux.fr
SUMMARY:CHAMPIONNAT DEPARTEMENTAL  Notre Dame d’Estrées : CSO
DESCRIPTION:
URL:https://www.haras-louveaux.fr/event/championnats-regionaux-notre-damme-destrees/
END:VEVENT
END:VCALENDAR