BEGIN:VCALENDAR
VERSION:2.0
PRODID:-//Les Louveaux - ECPv5.14.2.1//NONSGML v1.0//EN
CALSCALE:GREGORIAN
METHOD:PUBLISH
X-WR-CALNAME:Les Louveaux
X-ORIGINAL-URL:https://www.haras-louveaux.fr
X-WR-CALDESC:Events for Les Louveaux
REFRESH-INTERVAL;VALUE=DURATION:PT1H
X-Robots-Tag:noindex
X-PUBLISHED-TTL:PT1H
BEGIN:VTIMEZONE
TZID:UTC
BEGIN:STANDARD
TZOFFSETFROM:+0000
TZOFFSETTO:+0000
TZNAME:UTC
DTSTART:20250101T000000
END:STANDARD
END:VTIMEZONE
BEGIN:VEVENT
DTSTART;TZID=UTC:20250531T080000
DTEND;TZID=UTC:20250601T170000
DTSTAMP:20260422T031834
CREATED:20250222T174113Z
LAST-MODIFIED:20250222T174113Z
UID:1695-1748678400-1748797200@www.haras-louveaux.fr
SUMMARY:GRAND TOURNOI PG Lamotte
DESCRIPTION:
URL:https://www.haras-louveaux.fr/event/grand-tournoi-pg-lamotte/
END:VEVENT
END:VCALENDAR