BEGIN:VCALENDAR
VERSION:2.0
PRODID:-//Les Louveaux - ECPv5.14.2.1//NONSGML v1.0//EN
CALSCALE:GREGORIAN
METHOD:PUBLISH
X-WR-CALNAME:Les Louveaux
X-ORIGINAL-URL:https://www.haras-louveaux.fr
X-WR-CALDESC:Events for Les Louveaux
REFRESH-INTERVAL;VALUE=DURATION:PT1H
X-Robots-Tag:noindex
X-PUBLISHED-TTL:PT1H
BEGIN:VTIMEZONE
TZID:UTC
BEGIN:STANDARD
TZOFFSETFROM:+0000
TZOFFSETTO:+0000
TZNAME:UTC
DTSTART:20230101T000000
END:STANDARD
END:VTIMEZONE
BEGIN:VEVENT
DTSTART;VALUE=DATE:20230305
DTEND;VALUE=DATE:20230306
DTSTAMP:20260423T191123
CREATED:20220301T222353Z
LAST-MODIFIED:20221230T133741Z
UID:1299-1677974400-1678060799@www.haras-louveaux.fr
SUMMARY:PG / Equifeel : Blainville sur Orne
DESCRIPTION:
URL:https://www.haras-louveaux.fr/event/auvers/
END:VEVENT
BEGIN:VEVENT
DTSTART;VALUE=DATE:20230312
DTEND;VALUE=DATE:20230313
DTSTAMP:20260423T191123
CREATED:20220301T222900Z
LAST-MODIFIED:20221230T133626Z
UID:1302-1678579200-1678665599@www.haras-louveaux.fr
SUMMARY:La SHUC
DESCRIPTION:
URL:https://www.haras-louveaux.fr/event/la-barre-de-semilly/
END:VEVENT
END:VCALENDAR