BEGIN:VCALENDAR
VERSION:2.0
PRODID:-//Les Louveaux - ECPv5.14.2.1//NONSGML v1.0//EN
CALSCALE:GREGORIAN
METHOD:PUBLISH
X-WR-CALNAME:Les Louveaux
X-ORIGINAL-URL:https://www.haras-louveaux.fr
X-WR-CALDESC:Events for Les Louveaux
REFRESH-INTERVAL;VALUE=DURATION:PT1H
X-Robots-Tag:noindex
X-PUBLISHED-TTL:PT1H
BEGIN:VTIMEZONE
TZID:UTC
BEGIN:STANDARD
TZOFFSETFROM:+0000
TZOFFSETTO:+0000
TZNAME:UTC
DTSTART:20240101T000000
END:STANDARD
END:VTIMEZONE
BEGIN:VEVENT
DTSTART;VALUE=DATE:20240303
DTEND;VALUE=DATE:20240304
DTSTAMP:20260423T022731
CREATED:20240210T134316Z
LAST-MODIFIED:20240210T134316Z
UID:1619-1709424000-1709510399@www.haras-louveaux.fr
SUMMARY:LSA Concours de Dressage
DESCRIPTION:
URL:https://www.haras-louveaux.fr/event/lsa-concours-de-dressage/
END:VEVENT
BEGIN:VEVENT
DTSTART;TZID=UTC:20240310T080000
DTEND;TZID=UTC:20240310T170000
DTSTAMP:20260423T022731
CREATED:20250511T124411Z
LAST-MODIFIED:20250324T104452Z
UID:1621-1710057600-1710090000@www.haras-louveaux.fr
SUMMARY:CARVILLE -LA SOULEUVRE   Circuit Départemental CSO
DESCRIPTION:
URL:https://www.haras-louveaux.fr/event/la-souleuvre-cso-circuit-departemental/
END:VEVENT
BEGIN:VEVENT
DTSTART;VALUE=DATE:20240317
DTEND;VALUE=DATE:20240318
DTSTAMP:20260423T022731
CREATED:20240210T134509Z
LAST-MODIFIED:20240210T134509Z
UID:1623-1710633600-1710719999@www.haras-louveaux.fr
SUMMARY:PÔLE HIPPIQUE ST LÔ CSO
DESCRIPTION:
URL:https://www.haras-louveaux.fr/event/pole-hippique-st-lo-cso/
END:VEVENT
BEGIN:VEVENT
DTSTART;VALUE=DATE:20240324
DTEND;VALUE=DATE:20240325
DTSTAMP:20260423T022731
CREATED:20240210T134612Z
LAST-MODIFIED:20240210T134612Z
UID:1625-1711238400-1711324799@www.haras-louveaux.fr
SUMMARY:BLAINVILLE / ORNE : Concours  PG et EQUIFEEL
DESCRIPTION:
URL:https://www.haras-louveaux.fr/event/blainville-orne-concours-pg-et-equifeel/
END:VEVENT
END:VCALENDAR